Package: CoCiteStats Version: 1.81.0 Command: /Library/Frameworks/R.framework/Resources/bin/R CMD check --install=check:CoCiteStats.install-out.txt --library=/Library/Frameworks/R.framework/Resources/library --no-vignettes --timings CoCiteStats_1.81.0.tar.gz StartedAt: 2025-10-20 19:00:49 -0400 (Mon, 20 Oct 2025) EndedAt: 2025-10-20 19:02:35 -0400 (Mon, 20 Oct 2025) EllapsedTime: 106.2 seconds RetCode: 0 Status: OK CheckDir: CoCiteStats.Rcheck Warnings: 0