Package: ClusterSignificance Version: 1.38.0 Command: /home/biocbuild/bbs-3.22-bioc/R/bin/R CMD INSTALL ClusterSignificance StartedAt: 2025-11-06 15:05:07 -0500 (Thu, 06 Nov 2025) EndedAt: 2025-11-06 15:05:19 -0500 (Thu, 06 Nov 2025) EllapsedTime: 11.8 seconds RetCode: 0 Status: OK