Package: ClusterSignificance Version: 1.38.0 Command: /Library/Frameworks/R.framework/Resources/bin/R CMD INSTALL ClusterSignificance StartedAt: 2025-11-09 15:03:18 -0500 (Sun, 09 Nov 2025) EndedAt: 2025-11-09 15:03:25 -0500 (Sun, 09 Nov 2025) EllapsedTime: 6.4 seconds RetCode: 0 Status: OK