Package: ClusterSignificance Version: 1.38.0 Command: /Library/Frameworks/R.framework/Resources/bin/R CMD check --install=check:ClusterSignificance.install-out.txt --library=/Library/Frameworks/R.framework/Resources/library --no-vignettes --timings ClusterSignificance_1.38.0.tar.gz StartedAt: 2025-11-09 19:04:33 -0500 (Sun, 09 Nov 2025) EndedAt: 2025-11-09 19:04:49 -0500 (Sun, 09 Nov 2025) EllapsedTime: 15.2 seconds RetCode: 0 Status: OK CheckDir: ClusterSignificance.Rcheck Warnings: 0