Package: ClusterSignificance Version: 1.38.0 Command: /Library/Frameworks/R.framework/Resources/bin/R CMD build --keep-empty-dirs --no-resave-data ClusterSignificance StartedAt: 2025-11-09 15:58:13 -0500 (Sun, 09 Nov 2025) EndedAt: 2025-11-09 15:58:33 -0500 (Sun, 09 Nov 2025) EllapsedTime: 20.2 seconds RetCode: 0 Status: OK PackageFile: ClusterSignificance_1.38.0.tar.gz PackageFileSize: 2.113 MiB