Package: ClusterSignificance Version: 1.38.0 Maintainer: Jason T Serviss MaintainerEmail: jason.serviss at ki.se git_url: https://git.bioconductor.org/packages/ClusterSignificance git_branch: RELEASE_3_22 git_last_commit: c7fe714 git_last_commit_date: 2025-10-29 10:31:54 -0500 (Wed, 29 Oct 2025)