Package: ClusterJudge Version: 1.31.0 Command: /home/biocbuild/R/R/bin/R CMD INSTALL ClusterJudge StartedAt: 2025-09-29 20:42:43 -0000 (Mon, 29 Sep 2025) EndedAt: 2025-09-29 20:43:00 -0000 (Mon, 29 Sep 2025) EllapsedTime: 16.9 seconds RetCode: 0 Status: OK