Package: ClusterJudge Version: 1.31.0 Command: /home/biocbuild/R/R/bin/R CMD build --keep-empty-dirs --no-resave-data ClusterJudge StartedAt: 2025-09-29 22:58:09 -0000 (Mon, 29 Sep 2025) EndedAt: 2025-09-29 22:59:13 -0000 (Mon, 29 Sep 2025) EllapsedTime: 64.0 seconds RetCode: 0 Status: OK PackageFile: ClusterJudge_1.31.0.tar.gz PackageFileSize: 864 KiB