Package: ClusterJudge Version: 1.32.0 Command: rm -rf ClusterJudge.buildbin-libdir && mkdir ClusterJudge.buildbin-libdir && /Users/biocbuild/BBS/utils/build-universal.sh ClusterJudge_1.32.0.tar.gz /Library/Frameworks/R.framework/Resources/bin/R ClusterJudge.buildbin-libdir StartedAt: 2025-11-21 14:26:34 -0500 (Fri, 21 Nov 2025) EndedAt: 2025-11-21 14:26:44 -0500 (Fri, 21 Nov 2025) EllapsedTime: 9.8 seconds RetCode: 0 Status: OK PackageFile: ClusterJudge_1.32.0.tgz PackageFileSize: 4.395 MiB