Package: ClusterJudge Version: 1.32.0 Command: /Library/Frameworks/R.framework/Resources/bin/R CMD build --keep-empty-dirs --no-resave-data ClusterJudge StartedAt: 2025-11-17 19:56:44 -0500 (Mon, 17 Nov 2025) EndedAt: 2025-11-17 19:57:05 -0500 (Mon, 17 Nov 2025) EllapsedTime: 21.2 seconds RetCode: 0 Status: OK PackageFile: ClusterJudge_1.32.0.tar.gz PackageFileSize: 959 KiB