Package: ClustAll Version: 1.5.0 Command: /home/biocbuild/R/R/bin/R CMD build --keep-empty-dirs --no-resave-data ClustAll StartedAt: 2025-10-17 00:04:24 -0000 (Fri, 17 Oct 2025) EndedAt: 2025-10-17 00:10:09 -0000 (Fri, 17 Oct 2025) EllapsedTime: 345.1 seconds RetCode: 0 Status: OK PackageFile: ClustAll_1.5.0.tar.gz PackageFileSize: 2.8 MiB