Package: ClustAll Version: 1.5.0 Command: rm -rf ClustAll.buildbin-libdir && mkdir ClustAll.buildbin-libdir && F:\biocbuild\bbs-3.22-bioc\R\bin\R.exe CMD INSTALL --build --library=ClustAll.buildbin-libdir ClustAll_1.5.0.tar.gz StartedAt: 2025-08-15 09:58:42 -0400 (Fri, 15 Aug 2025) EndedAt: 2025-08-15 09:59:33 -0400 (Fri, 15 Aug 2025) EllapsedTime: 51.0 seconds RetCode: 0 Status: OK PackageFile: ClustAll_1.5.0.zip PackageFileSize: 2.116 MiB