Package: ClustAll Version: 1.5.0 Command: /home/biocbuild/bbs-3.22-bioc/R/bin/R CMD check --install=check:ClustAll.install-out.txt --library=/home/biocbuild/bbs-3.22-bioc/R/site-library --timings ClustAll_1.5.0.tar.gz StartedAt: 2025-10-19 22:14:06 -0400 (Sun, 19 Oct 2025) EndedAt: 2025-10-19 22:21:14 -0400 (Sun, 19 Oct 2025) EllapsedTime: 427.5 seconds RetCode: 0 Status: OK CheckDir: ClustAll.Rcheck Warnings: 0