Package: ClustAll Version: 1.5.0 Command: /home/biocbuild/bbs-3.22-bioc/R/bin/R CMD build --keep-empty-dirs --no-resave-data --md5 ClustAll StartedAt: 2025-10-19 16:54:25 -0400 (Sun, 19 Oct 2025) EndedAt: 2025-10-19 16:58:40 -0400 (Sun, 19 Oct 2025) EllapsedTime: 254.2 seconds RetCode: 0 Status: OK PackageFile: ClustAll_1.5.0.tar.gz PackageFileSize: 2.949 MiB