Package: ClustAll Version: 1.5.0 Command: /Library/Frameworks/R.framework/Resources/bin/R CMD check --install=check:ClustAll.install-out.txt --library=/Library/Frameworks/R.framework/Resources/library --no-vignettes --timings ClustAll_1.5.0.tar.gz StartedAt: 2025-10-19 18:57:28 -0400 (Sun, 19 Oct 2025) EndedAt: 2025-10-19 18:58:53 -0400 (Sun, 19 Oct 2025) EllapsedTime: 85.1 seconds RetCode: 0 Status: OK CheckDir: ClustAll.Rcheck Warnings: 0