Package: ClustAll Version: 1.5.0 Command: /Library/Frameworks/R.framework/Resources/bin/R CMD build --keep-empty-dirs --no-resave-data ClustAll StartedAt: 2025-10-19 15:56:57 -0400 (Sun, 19 Oct 2025) EndedAt: 2025-10-19 15:58:42 -0400 (Sun, 19 Oct 2025) EllapsedTime: 105.2 seconds RetCode: 0 Status: OK PackageFile: ClustAll_1.5.0.tar.gz PackageFileSize: 2.948 MiB