Package: CluMSID Version: 1.25.0 Command: /home/biocbuild/R/R/bin/R CMD build --keep-empty-dirs --no-resave-data CluMSID StartedAt: 2025-10-17 00:04:22 -0000 (Fri, 17 Oct 2025) EndedAt: 2025-10-17 00:13:30 -0000 (Fri, 17 Oct 2025) EllapsedTime: 548.2 seconds RetCode: 0 Status: OK PackageFile: CluMSID_1.25.0.tar.gz PackageFileSize: 2.604 MiB