Package: CluMSID Version: 1.25.0 Command: /home/biocbuild/bbs-3.22-bioc/R/bin/R CMD INSTALL CluMSID StartedAt: 2025-10-17 15:36:38 -0400 (Fri, 17 Oct 2025) EndedAt: 2025-10-17 15:37:22 -0400 (Fri, 17 Oct 2025) EllapsedTime: 43.7 seconds RetCode: 0 Status: OK