Package: CluMSID Version: 1.25.0 Command: /Library/Frameworks/R.framework/Resources/bin/R CMD INSTALL CluMSID StartedAt: 2025-10-17 15:23:14 -0400 (Fri, 17 Oct 2025) EndedAt: 2025-10-17 15:23:31 -0400 (Fri, 17 Oct 2025) EllapsedTime: 17.5 seconds RetCode: 0 Status: OK