Package: CluMSID Version: 1.25.0 Command: /Library/Frameworks/R.framework/Resources/bin/R CMD build --keep-empty-dirs --no-resave-data CluMSID StartedAt: 2025-10-19 15:56:56 -0400 (Sun, 19 Oct 2025) EndedAt: 2025-10-19 15:57:25 -0400 (Sun, 19 Oct 2025) EllapsedTime: 28.3 seconds RetCode: 1 Status: ERROR PackageFile: None PackageFileSize: NA