Package: Clomial Version: 1.45.0 Command: /home/biocbuild/R/R/bin/R CMD INSTALL Clomial StartedAt: 2025-10-13 20:33:56 -0000 (Mon, 13 Oct 2025) EndedAt: 2025-10-13 20:34:34 -0000 (Mon, 13 Oct 2025) EllapsedTime: 37.7 seconds RetCode: 0 Status: OK