Package: Clomial Version: 1.45.0 Command: F:\biocbuild\bbs-3.22-bioc\R\bin\R.exe CMD INSTALL Clomial StartedAt: 2025-08-14 15:20:27 -0400 (Thu, 14 Aug 2025) EndedAt: 2025-08-14 15:21:04 -0400 (Thu, 14 Aug 2025) EllapsedTime: 36.8 seconds RetCode: 0 Status: OK