Package: Clomial Version: 1.45.0 Command: rm -rf Clomial.buildbin-libdir && mkdir Clomial.buildbin-libdir && F:\biocbuild\bbs-3.22-bioc\R\bin\R.exe CMD INSTALL --build --library=Clomial.buildbin-libdir Clomial_1.45.0.tar.gz StartedAt: 2025-08-15 09:58:31 -0400 (Fri, 15 Aug 2025) EndedAt: 2025-08-15 09:58:41 -0400 (Fri, 15 Aug 2025) EllapsedTime: 10.0 seconds RetCode: 0 Status: OK PackageFile: Clomial_1.45.0.zip PackageFileSize: 1.421 MiB