Package: CleanUpRNAseq Version: 1.3.2 Command: /home/biocbuild/R/R/bin/R CMD INSTALL CleanUpRNAseq StartedAt: 2025-09-29 21:42:06 -0000 (Mon, 29 Sep 2025) EndedAt: 2025-09-29 21:43:06 -0000 (Mon, 29 Sep 2025) EllapsedTime: 60.3 seconds RetCode: 0 Status: OK