Package: CleanUpRNAseq Version: 1.3.2 Command: /home/biocbuild/R/R/bin/R CMD check --install=check:CleanUpRNAseq.install-out.txt --library=/home/biocbuild/R/R/site-library --no-vignettes --timings CleanUpRNAseq_1.3.2.tar.gz StartedAt: 2025-10-03 05:44:03 -0000 (Fri, 03 Oct 2025) EndedAt: 2025-10-03 05:51:38 -0000 (Fri, 03 Oct 2025) EllapsedTime: 455.5 seconds RetCode: 0 Status: OK CheckDir: CleanUpRNAseq.Rcheck Warnings: 0