Package: CleanUpRNAseq Version: 1.3.2 Command: /home/biocbuild/R/R/bin/R CMD build --keep-empty-dirs --no-resave-data CleanUpRNAseq StartedAt: 2025-09-29 22:55:31 -0000 (Mon, 29 Sep 2025) EndedAt: 2025-09-29 22:57:30 -0000 (Mon, 29 Sep 2025) EllapsedTime: 119.1 seconds RetCode: 0 Status: OK PackageFile: CleanUpRNAseq_1.3.2.tar.gz PackageFileSize: 2.006 MiB