Package: ClassifyR Version: 3.13.8 Command: /home/biocbuild/bbs-3.22-bioc/R/bin/R CMD INSTALL ClassifyR StartedAt: 2025-10-22 15:28:28 -0400 (Wed, 22 Oct 2025) EndedAt: 2025-10-22 15:29:01 -0400 (Wed, 22 Oct 2025) EllapsedTime: 33.7 seconds RetCode: 0 Status: OK