Package: ClassifyR Version: 3.13.8 Command: /home/biocbuild/bbs-3.22-bioc/R/bin/R CMD check --install=check:ClassifyR.install-out.txt --library=/home/biocbuild/bbs-3.22-bioc/R/site-library --timings ClassifyR_3.13.8.tar.gz StartedAt: 2025-10-22 22:14:39 -0400 (Wed, 22 Oct 2025) EndedAt: 2025-10-22 22:20:58 -0400 (Wed, 22 Oct 2025) EllapsedTime: 379.4 seconds RetCode: 0 Status: OK CheckDir: ClassifyR.Rcheck Warnings: 0