Package: ClassifyR Version: 3.13.8 Command: /home/biocbuild/bbs-3.22-bioc/R/bin/R CMD build --keep-empty-dirs --no-resave-data --md5 ClassifyR StartedAt: 2025-10-22 16:50:15 -0400 (Wed, 22 Oct 2025) EndedAt: 2025-10-22 16:52:06 -0400 (Wed, 22 Oct 2025) EllapsedTime: 111.1 seconds RetCode: 0 Status: OK PackageFile: ClassifyR_3.13.8.tar.gz PackageFileSize: 2.416 MiB