Package: CiteFuse Version: 1.21.1 Command: /home/biocbuild/R/R/bin/R CMD check --install=check:CiteFuse.install-out.txt --library=/home/biocbuild/R/R/site-library --no-vignettes --timings CiteFuse_1.21.1.tar.gz StartedAt: 2025-10-21 06:32:32 -0000 (Tue, 21 Oct 2025) EndedAt: 2025-10-21 06:38:17 -0000 (Tue, 21 Oct 2025) EllapsedTime: 345.3 seconds RetCode: 0 Status: OK CheckDir: CiteFuse.Rcheck Warnings: 0