Package: CiteFuse Version: 1.21.1 Command: /home/biocbuild/R/R/bin/R CMD build --keep-empty-dirs --no-resave-data CiteFuse StartedAt: 2025-10-20 22:44:08 -0000 (Mon, 20 Oct 2025) EndedAt: 2025-10-20 22:48:31 -0000 (Mon, 20 Oct 2025) EllapsedTime: 262.8 seconds RetCode: 0 Status: OK PackageFile: CiteFuse_1.21.1.tar.gz PackageFileSize: 2.536 MiB