Package: CiteFuse Version: 1.21.1 Command: /home/biocbuild/bbs-3.22-bioc/R/bin/R CMD INSTALL CiteFuse StartedAt: 2025-10-20 15:54:43 -0400 (Mon, 20 Oct 2025) EndedAt: 2025-10-20 15:55:30 -0400 (Mon, 20 Oct 2025) EllapsedTime: 47.0 seconds RetCode: 0 Status: OK