Package: CiteFuse Version: 1.21.1 Command: /home/biocbuild/bbs-3.22-bioc/R/bin/R CMD check --install=check:CiteFuse.install-out.txt --library=/home/biocbuild/bbs-3.22-bioc/R/site-library --timings CiteFuse_1.21.1.tar.gz StartedAt: 2025-10-20 22:06:51 -0400 (Mon, 20 Oct 2025) EndedAt: 2025-10-20 22:12:59 -0400 (Mon, 20 Oct 2025) EllapsedTime: 367.4 seconds RetCode: 0 Status: OK CheckDir: CiteFuse.Rcheck Warnings: 0