Package: CiteFuse Version: 1.21.1 Command: /home/biocbuild/bbs-3.22-bioc/R/bin/R CMD build --keep-empty-dirs --no-resave-data --md5 CiteFuse StartedAt: 2025-10-20 16:47:42 -0400 (Mon, 20 Oct 2025) EndedAt: 2025-10-20 16:50:22 -0400 (Mon, 20 Oct 2025) EllapsedTime: 160.1 seconds RetCode: 0 Status: OK PackageFile: CiteFuse_1.21.1.tar.gz PackageFileSize: 3.099 MiB