Package: CiteFuse Version: 1.21.1 Command: /Library/Frameworks/R.framework/Resources/bin/R CMD check --install=check:CiteFuse.install-out.txt --library=/Library/Frameworks/R.framework/Resources/library --no-vignettes --timings CiteFuse_1.21.1.tar.gz StartedAt: 2025-10-21 20:57:03 -0400 (Tue, 21 Oct 2025) EndedAt: 2025-10-21 21:02:03 -0400 (Tue, 21 Oct 2025) EllapsedTime: 300.2 seconds RetCode: 0 Status: OK CheckDir: CiteFuse.Rcheck Warnings: 0