Package: CiteFuse Version: 1.21.1 Command: /Library/Frameworks/R.framework/Resources/bin/R CMD build --keep-empty-dirs --no-resave-data CiteFuse StartedAt: 2025-10-21 16:32:12 -0400 (Tue, 21 Oct 2025) EndedAt: 2025-10-21 16:35:57 -0400 (Tue, 21 Oct 2025) EllapsedTime: 224.2 seconds RetCode: 0 Status: OK PackageFile: CiteFuse_1.21.1.tar.gz PackageFileSize: 3.354 MiB