Package: CiteFuse Version: 1.21.1 Command: rm -rf CiteFuse.buildbin-libdir && mkdir CiteFuse.buildbin-libdir && /Users/biocbuild/BBS/utils/build-universal.sh CiteFuse_1.21.1.tar.gz /Library/Frameworks/R.framework/Resources/bin/R CiteFuse.buildbin-libdir StartedAt: 2025-10-22 02:17:40 -0400 (Wed, 22 Oct 2025) EndedAt: 2025-10-22 02:18:45 -0400 (Wed, 22 Oct 2025) EllapsedTime: 64.8 seconds RetCode: 0 Status: OK PackageFile: CiteFuse_1.21.1.tgz PackageFileSize: 3.571 MiB