Package: CiteFuse Version: 1.21.1 Command: rm -rf CiteFuse.buildbin-libdir && mkdir CiteFuse.buildbin-libdir && /Users/biocbuild/BBS/utils/build-universal.sh CiteFuse_1.21.1.tar.gz /Library/Frameworks/R.framework/Resources/bin/R CiteFuse.buildbin-libdir StartedAt: 2025-10-21 22:55:56 -0400 (Tue, 21 Oct 2025) EndedAt: 2025-10-21 22:56:15 -0400 (Tue, 21 Oct 2025) EllapsedTime: 19.4 seconds RetCode: 0 Status: OK PackageFile: CiteFuse_1.21.1.tgz PackageFileSize: 3.503 MiB