Package: CiteFuse Version: 1.21.1 Maintainer: Yingxin Lin MaintainerEmail: yingxin.lin at sydney.edu.au git_url: https://git.bioconductor.org/packages/CiteFuse git_branch: devel git_last_commit: 59857bc git_last_commit_date: 2025-10-14 14:33:20 -0400 (Tue, 14 Oct 2025)