Package: ChromSCape Version: 1.19.1 Command: /home/biocbuild/R/R/bin/R CMD check --install=check:ChromSCape.install-out.txt --library=/home/biocbuild/R/R/site-library --no-vignettes --timings ChromSCape_1.19.1.tar.gz StartedAt: 2025-10-21 06:30:38 -0000 (Tue, 21 Oct 2025) EndedAt: 2025-10-21 06:47:34 -0000 (Tue, 21 Oct 2025) EllapsedTime: 1015.8 seconds RetCode: 0 Status: WARNINGS CheckDir: ChromSCape.Rcheck Warnings: 1