Package: ChromSCape Version: 1.19.1 Command: /home/biocbuild/bbs-3.22-bioc/R/bin/R CMD check --install=check:ChromSCape.install-out.txt --library=/home/biocbuild/bbs-3.22-bioc/R/site-library --timings ChromSCape_1.19.1.tar.gz StartedAt: 2025-10-20 22:05:06 -0400 (Mon, 20 Oct 2025) EndedAt: 2025-10-20 22:17:56 -0400 (Mon, 20 Oct 2025) EllapsedTime: 769.7 seconds RetCode: 0 Status: WARNINGS CheckDir: ChromSCape.Rcheck Warnings: 1