Package: ChromSCape Version: 1.19.1 Command: /Library/Frameworks/R.framework/Resources/bin/R CMD check --install=check:ChromSCape.install-out.txt --library=/Library/Frameworks/R.framework/Resources/library --no-vignettes --timings ChromSCape_1.19.1.tar.gz StartedAt: 2025-10-20 18:55:38 -0400 (Mon, 20 Oct 2025) EndedAt: 2025-10-20 19:00:45 -0400 (Mon, 20 Oct 2025) EllapsedTime: 306.8 seconds RetCode: 0 Status: WARNINGS CheckDir: ChromSCape.Rcheck Warnings: 1