Package: Chicago Version: 1.37.1 Command: /home/biocbuild/R/R/bin/R CMD INSTALL Chicago StartedAt: 2025-10-23 20:24:47 -0000 (Thu, 23 Oct 2025) EndedAt: 2025-10-23 20:25:46 -0000 (Thu, 23 Oct 2025) EllapsedTime: 59.1 seconds RetCode: 0 Status: OK