Package: Chicago Version: 1.37.1 Command: /home/biocbuild/R/R/bin/R CMD build --keep-empty-dirs --no-resave-data Chicago StartedAt: 2025-10-20 22:39:16 -0000 (Mon, 20 Oct 2025) EndedAt: 2025-10-20 22:41:39 -0000 (Mon, 20 Oct 2025) EllapsedTime: 143.0 seconds RetCode: 0 Status: OK PackageFile: Chicago_1.37.1.tar.gz PackageFileSize: 946.6 KiB