Package: Chicago Version: 1.37.1 Command: /Library/Frameworks/R.framework/Resources/bin/R CMD INSTALL Chicago StartedAt: 2025-10-24 15:17:51 -0400 (Fri, 24 Oct 2025) EndedAt: 2025-10-24 15:18:35 -0400 (Fri, 24 Oct 2025) EllapsedTime: 44.3 seconds RetCode: 0 Status: OK