Package: Chicago Version: 1.37.1 Command: /Library/Frameworks/R.framework/Resources/bin/R CMD INSTALL Chicago StartedAt: 2025-10-23 15:04:40 -0400 (Thu, 23 Oct 2025) EndedAt: 2025-10-23 15:04:57 -0400 (Thu, 23 Oct 2025) EllapsedTime: 16.8 seconds RetCode: 0 Status: OK