Package: ChIPsim Version: 1.63.0 Command: F:\biocbuild\bbs-3.22-bioc\R\bin\R.exe CMD check --no-multiarch --install=check:ChIPsim.install-out.txt --library=F:\biocbuild\bbs-3.22-bioc\R\library --no-vignettes --timings ChIPsim_1.63.0.tar.gz StartedAt: 2025-08-15 01:36:21 -0400 (Fri, 15 Aug 2025) EndedAt: 2025-08-15 01:40:08 -0400 (Fri, 15 Aug 2025) EllapsedTime: 227.0 seconds RetCode: 0 Status: OK CheckDir: ChIPsim.Rcheck Warnings: 0