Package: ChIPsim Version: 1.63.0 Command: /home/biocbuild/bbs-3.22-bioc/R/bin/R CMD check --install=check:ChIPsim.install-out.txt --library=/home/biocbuild/bbs-3.22-bioc/R/site-library --timings ChIPsim_1.63.0.tar.gz StartedAt: 2025-10-21 22:08:18 -0400 (Tue, 21 Oct 2025) EndedAt: 2025-10-21 22:12:09 -0400 (Tue, 21 Oct 2025) EllapsedTime: 230.2 seconds RetCode: 0 Status: OK CheckDir: ChIPsim.Rcheck Warnings: 0