Package: ChIPsim Version: 1.63.0 Command: /Library/Frameworks/R.framework/Resources/bin/R CMD check --install=check:ChIPsim.install-out.txt --library=/Library/Frameworks/R.framework/Resources/library --no-vignettes --timings ChIPsim_1.63.0.tar.gz StartedAt: 2025-10-22 20:02:29 -0400 (Wed, 22 Oct 2025) EndedAt: 2025-10-22 20:06:12 -0400 (Wed, 22 Oct 2025) EllapsedTime: 223.6 seconds RetCode: 0 Status: OK CheckDir: ChIPsim.Rcheck Warnings: 0