Package: ChIPsim Version: 1.63.0 Command: rm -rf ChIPsim.buildbin-libdir && mkdir ChIPsim.buildbin-libdir && /Users/biocbuild/BBS/utils/build-universal.sh ChIPsim_1.63.0.tar.gz /Library/Frameworks/R.framework/Resources/bin/R ChIPsim.buildbin-libdir StartedAt: 2025-10-22 22:55:12 -0400 (Wed, 22 Oct 2025) EndedAt: 2025-10-22 22:55:25 -0400 (Wed, 22 Oct 2025) EllapsedTime: 13.2 seconds RetCode: 0 Status: OK PackageFile: ChIPsim_1.63.0.tgz PackageFileSize: 762.5 KiB